BEGIN:VCALENDAR
VERSION:2.0
PRODID:-//BSC-Dorsten - ECPv6.15.20//NONSGML v1.0//EN
CALSCALE:GREGORIAN
METHOD:PUBLISH
X-WR-CALNAME:BSC-Dorsten
X-ORIGINAL-URL:https://bsc-dorsten.de
X-WR-CALDESC:Veranstaltungen für BSC-Dorsten
REFRESH-INTERVAL;VALUE=DURATION:PT1H
X-Robots-Tag:noindex
X-PUBLISHED-TTL:PT1H
BEGIN:VTIMEZONE
TZID:UTC
BEGIN:STANDARD
TZOFFSETFROM:+0000
TZOFFSETTO:+0000
TZNAME:UTC
DTSTART:20250101T000000
END:STANDARD
END:VTIMEZONE
BEGIN:VEVENT
DTSTART;TZID=UTC:20260123T080000
DTEND;TZID=UTC:20260125T170000
DTSTAMP:20260423T120251
CREATED:20221010T100551Z
LAST-MODIFIED:20251106T072130Z
UID:3342-1769155200-1769360400@bsc-dorsten.de
SUMMARY:LM Halle 2026 (Recurve/Blankbogen/Compound) LLZ Dortmund
DESCRIPTION:Details unter:\n(folgen) \n 
URL:https://bsc-dorsten.de/event/landesmeisterschaft-halle-2023-recurve-blankbogen-compound-llz-dortmund/
CATEGORIES:Verbandstermine und Turniere
ATTACH;FMTTYPE=image/png:https://bsc-dorsten.de/wp-content/uploads/2021/10/WSB-e1636529885320.png
END:VEVENT
BEGIN:VEVENT
DTSTART;TZID=UTC:20260125T100000
DTEND;TZID=UTC:20260125T120000
DTSTAMP:20260423T120251
CREATED:20220521T145529Z
LAST-MODIFIED:20260103T092137Z
UID:1974-1769335200-1769342400@bsc-dorsten.de
SUMMARY:Training in der Halle mit Stefan
DESCRIPTION:
URL:https://bsc-dorsten.de/event/letztes-training-2022-in-der-halle-mit-jan/
LOCATION:Albert-Schweitzer-Schule\, Glück-Auf-Straße 267\, Dorsten\, 46284\, Deutschland
CATEGORIES:Stefan,Training
ATTACH;FMTTYPE=image/jpeg:https://bsc-dorsten.de/wp-content/uploads/2019/04/IMG_2257-e1555099645666.jpg
END:VEVENT
END:VCALENDAR