BEGIN:VCALENDAR
VERSION:2.0
PRODID:-//BSC-Dorsten - ECPv6.15.20//NONSGML v1.0//EN
CALSCALE:GREGORIAN
METHOD:PUBLISH
X-WR-CALNAME:BSC-Dorsten
X-ORIGINAL-URL:https://bsc-dorsten.de
X-WR-CALDESC:Veranstaltungen für BSC-Dorsten
REFRESH-INTERVAL;VALUE=DURATION:PT1H
X-Robots-Tag:noindex
X-PUBLISHED-TTL:PT1H
BEGIN:VTIMEZONE
TZID:UTC
BEGIN:STANDARD
TZOFFSETFROM:+0000
TZOFFSETTO:+0000
TZNAME:UTC
DTSTART:20250101T000000
END:STANDARD
END:VTIMEZONE
BEGIN:VEVENT
DTSTART;TZID=UTC:20260315T100000
DTEND;TZID=UTC:20260315T120000
DTSTAMP:20260421T121839
CREATED:20231016T055353Z
LAST-MODIFIED:20260103T101121Z
UID:4415-1773568800-1773576000@bsc-dorsten.de
SUMMARY:ACHTUNG: letztes Training in der Halle mit Stefan
DESCRIPTION:
URL:https://bsc-dorsten.de/event/training-in-der-halle-mit-name-folgt/
CATEGORIES:Stefan,Training
ATTACH;FMTTYPE=image/jpeg:https://bsc-dorsten.de/wp-content/uploads/2019/04/IMG_2257-e1555099645666.jpg
END:VEVENT
END:VCALENDAR