BEGIN:VCALENDAR
VERSION:2.0
PRODID:-//BSC-Dorsten - ECPv6.15.20//NONSGML v1.0//EN
CALSCALE:GREGORIAN
METHOD:PUBLISH
X-ORIGINAL-URL:https://bsc-dorsten.de
X-WR-CALDESC:Veranstaltungen für BSC-Dorsten
REFRESH-INTERVAL;VALUE=DURATION:PT1H
X-Robots-Tag:noindex
X-PUBLISHED-TTL:PT1H
BEGIN:VTIMEZONE
TZID:UTC
BEGIN:STANDARD
TZOFFSETFROM:+0000
TZOFFSETTO:+0000
TZNAME:UTC
DTSTART:20250101T000000
END:STANDARD
END:VTIMEZONE
BEGIN:VTIMEZONE
TZID:Europe/Berlin
BEGIN:DAYLIGHT
TZOFFSETFROM:+0100
TZOFFSETTO:+0200
TZNAME:CEST
DTSTART:20250330T010000
END:DAYLIGHT
BEGIN:STANDARD
TZOFFSETFROM:+0200
TZOFFSETTO:+0100
TZNAME:CET
DTSTART:20251026T010000
END:STANDARD
BEGIN:DAYLIGHT
TZOFFSETFROM:+0100
TZOFFSETTO:+0200
TZNAME:CEST
DTSTART:20260329T010000
END:DAYLIGHT
BEGIN:STANDARD
TZOFFSETFROM:+0200
TZOFFSETTO:+0100
TZNAME:CET
DTSTART:20261025T010000
END:STANDARD
BEGIN:DAYLIGHT
TZOFFSETFROM:+0100
TZOFFSETTO:+0200
TZNAME:CEST
DTSTART:20270328T010000
END:DAYLIGHT
BEGIN:STANDARD
TZOFFSETFROM:+0200
TZOFFSETTO:+0100
TZNAME:CET
DTSTART:20271031T010000
END:STANDARD
END:VTIMEZONE
BEGIN:VEVENT
DTSTART;TZID=UTC:20260711T100000
DTEND;TZID=UTC:20260711T120000
DTSTAMP:20260421T120015
CREATED:20230107T153648Z
LAST-MODIFIED:20260112T165018Z
UID:3680-1783764000-1783771200@bsc-dorsten.de
SUMMARY:Training auf dem Platz mit Ulli
DESCRIPTION:
URL:https://bsc-dorsten.de/event/training-auf-dem-platz-mit-name-folgt-4/
CATEGORIES:Training,Ulrich
END:VEVENT
BEGIN:VEVENT
DTSTART;TZID=UTC:20260718T094500
DTEND;TZID=UTC:20260719T160000
DTSTAMP:20260421T120015
CREATED:20211018T101503Z
LAST-MODIFIED:20251106T083719Z
UID:726-1784367900-1784476800@bsc-dorsten.de
SUMMARY:Grundkurs 2/2026
DESCRIPTION:Tag1:\nTreffen 09:45h auf dem Parkplatz; Beginn 10:00h/Ende ca. 17:00h \nTag2: \nTreffen 10:00h vor der Hütte; Ende ca. 17:00h \n\nGrundkurs Bogenschießen\nDer Grundkurs ist für Anfänger Voraussetzung für eine Mitgliedschaft im BSC Dorsten\n\n\nDie Teilnahme am Grundkurs verpflichtet zu nichts!!!\n\nDauer: Ein Grundkurs läuft immer über zwei Tage (2 x 6 Stunden). \nEquipment: Die Bogensportausrüstung wird komplett vom BSC gestellt. \nDresscode: festes Schuhwerk\, lange Beinkleidung und ein möglichst eng anliegendes Oberteil. \nVerpflegung: Speisen sind selbst mitzubringen\, Getränke können bei uns erworben werden. \nKosten: Schüler\, Jugendliche und Auszubildende zahlen 40€\, Erwachsene 80€\, \nFamilien können zum Pauschalpreis von ebenfalls 80€ teilnehmen. \ngrober Ablauf:\nTag 1 (Pausen nach Bedarf):\n\nEmpfang der Teilnehmer*innen am Haupteingang/Parkplatz Hammer Weg 111\nBegrüßung/Vorstellung/Allgemeines\nErmittlung Rechtshand- (RH)/Linkshand-Schütze (LH)\nAusstattung mit entsprechender Ausrüstung\n\nErläuterung der einzelnen Ausrüstungsgegenstände\n\n\nSicherheitshinweise/Verhalten auf dem Gelände\nZuordnung Trainer/Gruppenteilnehmer\nTraining in Gruppen\n\nGrundlagen der Technik/erste Schüsse\n\n\nGemeinsam: Abbau/Aufbau des Bogens\nTraining in Gruppen\n\nindividuelle Kontrolle/Korrekturen von Fehlern\n\n\nGemeinsam: Review/Feedback des Tages\n\nTag 2 (Pausen nach Bedarf)\n\nTreffen auf dem Platz\nBogentheorie/Sicherheitsregeln beim Bewegen im Parcours\nTraining in Gruppen\n\nKennenlernen des Parcours/Verhalten auf der Schießbahn\nSchießen mit verschiedenen Distanzen\nBedeutung der unterschiedlichen Markierungen auf der Schießbahn\n\n\nMittags: Präsentation von Leihausrüstung durch einen Bogensport-Shop\nTraining in Gruppen\n\nSchießen auf Scheiben/3D-Ziele\n\n\nGemeinsam: Fazit/Review\nnächste Schritte\n\nWie kann man Mitglied werden?\nTrainingsmöglichkeiten bis zur Platzreife etc.\n\n\nVerabschiedung
URL:https://bsc-dorsten.de/event/grundkurs2-2022/
LOCATION:Vereinsgelände\, Hammer Weg 111\, Dorsten\, 46282\, Deutschland
CATEGORIES:Axel,Grundkurs,Jan,Stefan
ATTACH;FMTTYPE=image/png:https://bsc-dorsten.de/wp-content/uploads/2021/10/Grundkurs-1.png
END:VEVENT
BEGIN:VEVENT
DTSTART;TZID=Europe/Berlin:20260725T080000
DTEND;TZID=Europe/Berlin:20260725T170000
DTSTAMP:20260421T120015
CREATED:20260103T110658Z
LAST-MODIFIED:20260112T165221Z
UID:6267-1784966400-1784998800@bsc-dorsten.de
SUMMARY:Training auf dem Platz mit Petra/Manni/Jan
DESCRIPTION:
URL:https://bsc-dorsten.de/event/training-auf-dem-platz-mit/
CATEGORIES:Jan,Manfred,Petra,Training
END:VEVENT
BEGIN:VEVENT
DTSTART;VALUE=DATE:20260726
DTEND;VALUE=DATE:20260727
DTSTAMP:20260421T120015
CREATED:20220113T141904Z
LAST-MODIFIED:20251223T222734Z
UID:1656-1785024000-1785110399@bsc-dorsten.de
SUMMARY:Landesmeisterschaft 3D 2026 in Münster
DESCRIPTION:  \n 
URL:https://bsc-dorsten.de/event/landesmeisterschaft-3d/
CATEGORIES:Verbandstermine und Turniere
ATTACH;FMTTYPE=image/png:https://bsc-dorsten.de/wp-content/uploads/2019/04/Bildschirmfoto-2019-04-12-um-22.26.38-e1555267451512.png
END:VEVENT
BEGIN:VEVENT
DTSTART;TZID=Europe/Berlin:20260801T080000
DTEND;TZID=Europe/Berlin:20260801T170000
DTSTAMP:20260421T120015
CREATED:20260103T110735Z
LAST-MODIFIED:20260112T165430Z
UID:6269-1785571200-1785603600@bsc-dorsten.de
SUMMARY:Training auf dem Platz mit Petra/Jan
DESCRIPTION:
URL:https://bsc-dorsten.de/event/training-auf-dem-platz-mit-2/
CATEGORIES:Jan,Petra,Training
END:VEVENT
BEGIN:VEVENT
DTSTART;VALUE=DATE:20260808
DTEND;VALUE=DATE:20260810
DTSTAMP:20260421T120015
CREATED:20260208T084139Z
LAST-MODIFIED:20260208T084139Z
UID:6421-1786147200-1786319999@bsc-dorsten.de
SUMMARY:DM Feldbogen 2026 in Kellinghusen
DESCRIPTION:
URL:https://bsc-dorsten.de/event/dm-feldbogen-2026-in-kellinghusen/
ATTACH;FMTTYPE=image/jpeg:https://bsc-dorsten.de/wp-content/uploads/2023/02/DSB-Logo-1.jpg
END:VEVENT
BEGIN:VEVENT
DTSTART;TZID=Europe/Berlin:20260808T080000
DTEND;TZID=Europe/Berlin:20260808T170000
DTSTAMP:20260421T120015
CREATED:20260103T110755Z
LAST-MODIFIED:20260112T165609Z
UID:6271-1786176000-1786208400@bsc-dorsten.de
SUMMARY:Training auf dem Platz mit Marcus
DESCRIPTION:
URL:https://bsc-dorsten.de/event/training-auf-dem-platz-mit-3/
CATEGORIES:Marcus,Training
END:VEVENT
BEGIN:VEVENT
DTSTART;TZID=UTC:20260815T093000
DTEND;TZID=UTC:20260815T140000
DTSTAMP:20260421T120015
CREATED:20220109T151854Z
LAST-MODIFIED:20260103T111734Z
UID:1592-1786786200-1786802400@bsc-dorsten.de
SUMMARY:Arbeitstag Sommerfest\, Kein Training\, kein Schießbetrieb
DESCRIPTION:.Für Verpflegung wird gesorgt… \n 
URL:https://bsc-dorsten.de/event/arbeitstag-sommerfest-tierwelt-in-amerika-danach-erstes-training-nach-den-sommerferien-trainer-folgt/
CATEGORIES:Arbeitstage
ATTACH;FMTTYPE=image/jpeg:https://bsc-dorsten.de/wp-content/uploads/2021/11/20210815_101119-scaled.jpg
END:VEVENT
BEGIN:VEVENT
DTSTART;TZID=UTC:20260816T100000
DTEND;TZID=UTC:20260816T180000
DTSTAMP:20260421T120015
CREATED:20220109T152410Z
LAST-MODIFIED:20260331T140154Z
UID:1595-1786874400-1786903200@bsc-dorsten.de
SUMMARY:Sommerfest 2026 (Vereinsmitglieder + Partner)
DESCRIPTION:Anmeldung erforderlich… \n  \n\n\n\n\n\nZeitplan Sommerfest BSC Dorsten am 16.08.2026\n\n\n\nUhrzeit\nProgramm\n\n\nab ca.09:30\nletzte Vorbereitungen (Helfer benötigt)\n\n\nab 10:00\nBeginn des Sommerfestes/Begrüßung\n\n\n\n\n\n\nab ca. 10:15\nRunde „Scheiben der besonderen Art“\n\n\n\n\n\n\ndanach\nTierrunde\n\n\n\n\n\n\n\nMittagssnack\n\n\n\n\n\n\nca. 13:00\nDoppel-KO-Runde der „Rookies“ \nstartberechtigt: Teilnehmer ohne Turniererfahrung. Alle anderen Teilnehmer: freies Schießen Scheiben/Tiere\n\n\n\nSiegerehrungen Frühlingspokal/Sommerfest-Runden/Rookie-Schießen\n\n\n\n\n\n\nab ca. 15:30\nTreffen aller Teilnehmer an der Hütte zum gemütlichen Ausklang \nKaffee und Kuchen\n\n\n\n\n\n\n\n  \nFür Nichtmitglieder als Begleitung gilt eine Kostenbeteiligung von 10€.
URL:https://bsc-dorsten.de/event/sommerfest-nur-vereinsmitglieder-tierwelt-amerika/
CATEGORIES:BSC-Events
ATTACH;FMTTYPE=image/jpeg:https://bsc-dorsten.de/wp-content/uploads/2021/11/20210815_124855-scaled.jpg
END:VEVENT
BEGIN:VEVENT
DTSTART;TZID=Europe/Berlin:20260822T080000
DTEND;TZID=Europe/Berlin:20260822T170000
DTSTAMP:20260421T120015
CREATED:20260103T110933Z
LAST-MODIFIED:20260112T165721Z
UID:6273-1787385600-1787418000@bsc-dorsten.de
SUMMARY:Training auf dem Platz mit Jan
DESCRIPTION:
URL:https://bsc-dorsten.de/event/training-auf-dem-platz-mit-4/
CATEGORIES:Jan,Training
END:VEVENT
BEGIN:VEVENT
DTSTART;TZID=UTC:20260827T123000
DTEND;TZID=UTC:20260827T164500
DTSTAMP:20260421T120015
CREATED:20220215T112905Z
LAST-MODIFIED:20260115T180535Z
UID:1685-1787833800-1787849100@bsc-dorsten.de
SUMMARY:Talent-Tage St. Ursula Schulen: Workshop "Bogenschießen"
DESCRIPTION:ca. 10 Schüler*innen + Betreuer (Beginn ca. 13:00 – 13:30)
URL:https://bsc-dorsten.de/event/talent-tage-st-ursula-schulen-workshop-bogenschiessen-2/
LOCATION:Vereinsgelände\, Hammer Weg 111\, Dorsten\, 46282\, Deutschland
CATEGORIES:Sonstiges,Teamevent
ATTACH;FMTTYPE=image/jpeg:https://bsc-dorsten.de/wp-content/uploads/2021/11/20200229_120811-scaled.jpg
END:VEVENT
BEGIN:VEVENT
DTSTART;TZID=UTC:20260828T093000
DTEND;TZID=UTC:20260828T150000
DTSTAMP:20260421T120015
CREATED:20220215T112709Z
LAST-MODIFIED:20260115T180438Z
UID:1681-1787909400-1787929200@bsc-dorsten.de
SUMMARY:Talent-Tage St. Ursula Schulen: Workshop "Bogenschießen"
DESCRIPTION:ca. 10 Pers. + Betreuer (Beginn ca. 09:30)
URL:https://bsc-dorsten.de/event/talent-tage-st-ursula-schulen-workshop-bogenschiessen/
LOCATION:Vereinsgelände\, Hammer Weg 111\, Dorsten\, 46282\, Deutschland
CATEGORIES:Sonstiges,Teamevent
ATTACH;FMTTYPE=image/jpeg:https://bsc-dorsten.de/wp-content/uploads/2021/11/20200229_120811-scaled.jpg
END:VEVENT
BEGIN:VEVENT
DTSTART;VALUE=DATE:20260829
DTEND;VALUE=DATE:20260831
DTSTAMP:20260421T120015
CREATED:20220113T141446Z
LAST-MODIFIED:20251106T072002Z
UID:1654-1787961600-1788134399@bsc-dorsten.de
SUMMARY:Deutsche Meisterschaft 3D
DESCRIPTION:Deutsche Meisterschaft 3D des DSB in Neustrelitz
URL:https://bsc-dorsten.de/event/deutsche-meisterschaft-3d/
CATEGORIES:Verbandstermine und Turniere
END:VEVENT
BEGIN:VEVENT
DTSTART;TZID=Europe/Berlin:20260829T080000
DTEND;TZID=Europe/Berlin:20260829T170000
DTSTAMP:20260421T120015
CREATED:20260103T110949Z
LAST-MODIFIED:20260110T191632Z
UID:6275-1787990400-1788022800@bsc-dorsten.de
SUMMARY:Training auf dem Platz mit ??? anschl. Platzabnahme
DESCRIPTION:
URL:https://bsc-dorsten.de/event/training-auf-dem-platz-mit-5/
END:VEVENT
BEGIN:VEVENT
DTSTART;TZID=UTC:20260905T094500
DTEND;TZID=UTC:20260906T163000
DTSTAMP:20260421T120015
CREATED:20211018T101813Z
LAST-MODIFIED:20251106T071301Z
UID:731-1788601500-1788712200@bsc-dorsten.de
SUMMARY:Grundkurs 3/2026
DESCRIPTION:Tag1:\nTreffen 09:45h auf dem Parkplatz; Beginn 10:00h/Ende ca. 17:00h \nTag2: \nTreffen 10:00h vor der Hütte; Ende ca. 17:00h \n\nGrundkurs Bogenschießen\nDer Grundkurs ist für Anfänger Voraussetzung für eine Mitgliedschaft im BSC Dorsten\n\n\nDie Teilnahme am Grundkurs verpflichtet zu nichts!!!\n\nDauer: Ein Grundkurs läuft immer über zwei Tage (2 x 6 Stunden). \nEquipment: Die Bogensportausrüstung wird komplett vom BSC gestellt. \nDresscode: festes Schuhwerk\, lange Beinkleidung und ein möglichst eng anliegendes Oberteil. \nVerpflegung: Speisen sind selbst mitzubringen\, Getränke können bei uns erworben werden. \nKosten: Schüler\, Jugendliche und Auszubildende zahlen 40€\, Erwachsene 80€\, \nFamilien können zum Pauschalpreis von ebenfalls 80€ teilnehmen. \ngrober Ablauf:\nTag 1 (Pausen nach Bedarf):\n\nEmpfang der Teilnehmer*innen am Haupteingang/Parkplatz Hammer Weg 111\nBegrüßung/Vorstellung/Allgemeines\nErmittlung Rechtshand- (RH)/Linkshand-Schütze (LH)\nAusstattung mit entsprechender Ausrüstung\n\nErläuterung der einzelnen Ausrüstungsgegenstände\n\n\nSicherheitshinweise/Verhalten auf dem Gelände\nZuordnung Trainer/Gruppenteilnehmer\nTraining in Gruppen\n\nGrundlagen der Technik/erste Schüsse\n\n\nGemeinsam: Abbau/Aufbau des Bogens\nTraining in Gruppen\n\nindividuelle Kontrolle/Korrekturen von Fehlern\n\n\nGemeinsam: Review/Feedback des Tages\n\nTag 2 (Pausen nach Bedarf)\n\nTreffen auf dem Platz\nBogentheorie/Sicherheitsregeln beim Bewegen im Parcours\nTraining in Gruppen\n\nKennenlernen des Parcours/Verhalten auf der Schießbahn\nSchießen mit verschiedenen Distanzen\nBedeutung der unterschiedlichen Markierungen auf der Schießbahn\n\n\nMittags: Präsentation von Leihausrüstung durch einen Bogensport-Shop\nTraining in Gruppen\n\nSchießen auf Scheiben/3D-Ziele\n\n\nGemeinsam: Fazit/Review\nnächste Schritte\n\nWie kann man Mitglied werden?\nTrainingsmöglichkeiten bis zur Platzreife etc.\n\n\nVerabschiedung
URL:https://bsc-dorsten.de/event/grundkurs-3-2022/
LOCATION:Vereinsgelände\, Hammer Weg 111\, Dorsten\, 46282\, Deutschland
CATEGORIES:Axel,Grundkurs,Jan,Stefan
ATTACH;FMTTYPE=image/png:https://bsc-dorsten.de/wp-content/uploads/2021/10/Grundkurs-1.png
END:VEVENT
BEGIN:VEVENT
DTSTART;TZID=Europe/Berlin:20260912T100000
DTEND;TZID=Europe/Berlin:20260912T120000
DTSTAMP:20260421T120015
CREATED:20260110T191825Z
LAST-MODIFIED:20260112T170008Z
UID:6296-1789207200-1789214400@bsc-dorsten.de
SUMMARY:Training auf dem Platz mit Petra/Manni/Marcus
DESCRIPTION:
URL:https://bsc-dorsten.de/event/training-auf-dem-platz-mit-petra-o/
CATEGORIES:Manfred,Marcus,Petra,Training
END:VEVENT
BEGIN:VEVENT
DTSTART;TZID=UTC:20260919T093000
DTEND;TZID=UTC:20260919T150000
DTSTAMP:20260421T120015
CREATED:20220109T153144Z
LAST-MODIFIED:20260103T105708Z
UID:1597-1789810200-1789830000@bsc-dorsten.de
SUMMARY:Arbeitstag "Katharinenturnier" kein Training!/im Anschluß: Schießbetrieb nur für Helfer*innen
DESCRIPTION:Für Verpflegung wird gesorgt…
URL:https://bsc-dorsten.de/event/arbeitstag-katharinenturnier-kein-training/
CATEGORIES:Arbeitstage
ATTACH;FMTTYPE=image/jpeg:https://bsc-dorsten.de/wp-content/uploads/2021/10/cache_62704251.jpg
END:VEVENT
BEGIN:VEVENT
DTSTART;TZID=Europe/Berlin:20260920T100000
DTEND;TZID=Europe/Berlin:20260920T120000
DTSTAMP:20260421T120015
CREATED:20260110T192025Z
LAST-MODIFIED:20260418T130523Z
UID:6302-1789898400-1789905600@bsc-dorsten.de
SUMMARY:Achtung Sonntagstraining auf dem Platz mit  Ulli
DESCRIPTION:
URL:https://bsc-dorsten.de/event/achtung-sonntagstraining-auf-dem-platz-mit-x/
CATEGORIES:Training
END:VEVENT
BEGIN:VEVENT
DTSTART;TZID=UTC:20260926T093000
DTEND;TZID=UTC:20260926T150000
DTSTAMP:20260421T120015
CREATED:20220109T153354Z
LAST-MODIFIED:20260103T105847Z
UID:1599-1790415000-1790434800@bsc-dorsten.de
SUMMARY:Arbeitstag "Katharinenturnier" kein Training!/im Anschluß: Schießbetrieb nur für Helfer*innen
DESCRIPTION:für Verpflegung wird gesorgt… \n  \nNach Abschluss kann von den AT-Teilnehmern der Parcours „abgenommen“ werden (freies Schießen)
URL:https://bsc-dorsten.de/event/arbeitstag-katharinenturnier/
CATEGORIES:Arbeitstage
ATTACH;FMTTYPE=image/png:https://bsc-dorsten.de/wp-content/uploads/2021/10/Tier4.png
END:VEVENT
BEGIN:VEVENT
DTSTART;TZID=UTC:20260927T080000
DTEND;TZID=UTC:20260927T190000
DTSTAMP:20260421T120015
CREATED:20220109T155655Z
LAST-MODIFIED:20260112T185632Z
UID:1612-1790496000-1790535600@bsc-dorsten.de
SUMMARY:Katharinenturnier 2026
DESCRIPTION:Zeitlicher Ablauf und Klasseneinteilung hier…\n\n\n\n\nAusschreibung\n\n\n\n\n\nDas Turnier findet am Sonntag\, 27.09.2026 statt!\nOrt\nBogensportgelände\nHammer Weg 111\, 46284 Dorsten \nAnmeldung am Turniertag\nab 08:00 Uhr \nSchießbeginn\n09:30 Uhr \nHopa war früher ein Casino\, das eher mit der Welt der mobilen Spiele in Verbindung gebracht wurde. In den letzten Jahren ist der Name jedoch auch in der Tischkasinobranche bekannt geworden. Der erste Eindruck ist eine schicke Website\, viele spannende Spiele und ein Willkommensbonus von bis zu 500 £. Es ist also leicht zu erkennen\, warum das Hopa Online-Casino https://www.casinospieleonlineechtgeld.at/hopa-casino/ in Österreich bei den Spielern im Jahr 2022 so beliebt geworden ist. In diesem Bericht über das Hopa Online-Casino haben wir alles erforscht\, was dieses Casino so großartig macht\, also lesen Sie weiter\, um mehr zu erfahren.\nWertung\nKill 20 / 14 / 8  Körper 17 / 11 / 5\nHunter: Kill 20 Körper 10 \nFür die Kill-Wertung muss die Linie durchschossen sein. Berührt der Pfeil die Linie nur = Körpertreffer \nWir positionieren mindestens 30 3D Tiere in einer Runde\, teilweise als Hunter geschossen. \nMit großem Außengelände. \nFür’s leibliche Wohl ist gesorgt.\n\n\n\nAllgemeines\n \n \n\n– Ferngläser sind erlaubt.\n– Entfernungsmesser verboten.\n– Jeder Schütze ist für seinen Schuss verantwortlich  und bestätigt durch seine Anmeldung\, dass er haftpflichtversichert ist.\n– Der Veranstalter übernimmt keine Haftung für Sach- und Personenschäden.\n– Rauchen ist im Parcours nicht gestattet.\n– Hunde sind an der Leine zu führen.\n– Vor und während des Turniers besteht Alkoholverbot.\n– Den Anweisungen des Veranstalters ist Folge zu leisten.\n– Startgeld ist Reuegeld. Mit der Anmeldung bestätigen die Teilnehmer*innen\, dass ihre Namen in Anmeldelisten aufgeführt und veröffentlicht werden können. Weiterhin erlauben sie\, das Fotos der Veranstaltung/der Siegerehrung durch den Ausrichter veröffentlicht werden können und ggf. im Rahmen einer Berichterstattung in der Presse verwendet werden dürfen.\n\n\n\nEinteilungen\n\n \n\nStartgeld:\nErwachsene 20 €\nSchüler/Jugendliche 10 €\nAlle Katharinen oder Katharinas sind vom Startgeld befreit. Der Startplatz wird erst nach Eingang des Startgeldes in die Starterliste eingetragen.Altersklassen: Damen u. Herren ab 18\, Schüler/Jugendliche bis 17  \nBogenklassen: \nPB Primitivbogen\neinteilig aus Holz und/oder Naturmaterialien\nkeine Pfeilauflage\, kein Stabi\nmediterraner Abschuss\nnur Holzpfeile mit Naturbefiederung \nLB Langbogen\nein-oder mehrteilig aus Holz\, glasbelegt\nkeine Pfeilauflage (nur über Shelf)\, kein Stabi\nmediterraner Abschuss\nalle Pfeilarten \nTRB Jagdbogen\nein-oder mehrteilig aus Holz\, glasbelegt\nkeine Pfeilauflage (nur über Shelf)\nJagdstabi erlaubt\nbeliebiger Abschuss\nPfeile aus beliebigem Material\nkein Face- oder Stringwalking \nBHR Jagdbogen\nRecurvebogen ein- oder mehrteilig\nJagdstabi erlaubt\nPfeile aus beliebigem Material beliebiger Abschuss\nkein Face- oder Stringwalking \nBBR Blankbogen Recurve\nRecurvebogen\nPfeile aus beliebigem Material\nFace- oder Stringwalking \nBBC Blankbogen Compound\nCompoundbogen\nPfeile aus beliebigem Material\nFace- oder Stringwalking \nFSR Recurve Visier\nolympischer Bogen \nFU Compound Unlimited \n  \n 
URL:https://bsc-dorsten.de/event/katharinenturnier-2022/
LOCATION:Vereinsgelände\, Hammer Weg 111\, Dorsten\, 46282\, Deutschland
CATEGORIES:BSC-Events
ATTACH;FMTTYPE=image/jpeg:https://bsc-dorsten.de/wp-content/uploads/2021/11/20210815_135910-scaled.jpg
END:VEVENT
BEGIN:VEVENT
DTSTART;TZID=UTC:20261004T100000
DTEND;TZID=UTC:20261004T120000
DTSTAMP:20260421T120015
CREATED:20220521T144829Z
LAST-MODIFIED:20260110T192854Z
UID:1963-1791108000-1791115200@bsc-dorsten.de
SUMMARY:Training in der Halle mit Petra
DESCRIPTION:
URL:https://bsc-dorsten.de/event/training-in-der-halle-mit-stefan/
LOCATION:Albert-Schweitzer-Schule\, Glück-Auf-Straße 267\, Dorsten\, 46284\, Deutschland
CATEGORIES:Petra,Training
ATTACH;FMTTYPE=image/jpeg:https://bsc-dorsten.de/wp-content/uploads/2019/04/IMG_2257-e1555099645666.jpg
END:VEVENT
BEGIN:VEVENT
DTSTART;TZID=UTC:20261011T100000
DTEND;TZID=UTC:20261011T120000
DTSTAMP:20260421T120015
CREATED:20220521T150613Z
LAST-MODIFIED:20260112T171424Z
UID:1991-1791712800-1791720000@bsc-dorsten.de
SUMMARY:Training in der Halle mit Ulli anschl. Abnahme auf dem Platz
DESCRIPTION:
URL:https://bsc-dorsten.de/event/training-auf-dem-platz-mit-jan-4/
LOCATION:Vereinsgelände\, Hammer Weg 111\, Dorsten\, 46282\, Deutschland
CATEGORIES:Training,Ulrich
ATTACH;FMTTYPE=image/jpeg:https://bsc-dorsten.de/wp-content/uploads/2019/04/IMG_2257-e1555099645666.jpg
END:VEVENT
BEGIN:VEVENT
DTSTART;TZID=UTC:20261018T100000
DTEND;TZID=UTC:20261018T120000
DTSTAMP:20260421T120015
CREATED:20220521T144959Z
LAST-MODIFIED:20260112T171208Z
UID:1966-1792317600-1792324800@bsc-dorsten.de
SUMMARY:Training in der Halle mit Manni
DESCRIPTION:nächstes Training in der Halle am ???
URL:https://bsc-dorsten.de/event/training-in-der-halle-mit-stefan-2/
CATEGORIES:Manfred,Training
ATTACH;FMTTYPE=image/jpeg:https://bsc-dorsten.de/wp-content/uploads/2019/04/IMG_2257-e1555099645666.jpg
END:VEVENT
BEGIN:VEVENT
DTSTART;TZID=UTC:20261107T160000
DTEND;TZID=UTC:20261107T235900
DTSTAMP:20260421T120015
CREATED:20230814T072440Z
LAST-MODIFIED:20251106T071612Z
UID:4215-1794067200-1794095940@bsc-dorsten.de
SUMMARY:"Halloween-Schießen (3D)" nur für Vereinsmitglieder
DESCRIPTION:ca. 16:00h Treffen auf dem Gelände zum Schmücken der Tiere (Gerne Deko-Gegenstände (z. B. Kürbisse\, Spinnennetze etc. mitbringen…) \nca. 17:00h gemeinsames Grillen (jeder bringt Grillgut und Salate mit\, Grill und Kohle wird bereitgestellt; nicht-alkoholische Getränke frei) \nab ca. 18:30 gemeinsames Schießen auf beleuchtete 3D-Ziele (ggf. zwei Runden) Wer will\, kann auch auf Scheiben schießen… \nMitzubringen sind: \n\nTaschenlampen/Stirnleuchten\nggf. Akkuleuchten zum Beleuchten der Ziele\n\n  \nAchtung: bei schlechtem Wetter kann es auch kurzfristig zu einer Absage kommen (WhatsApp beachten!) \n  \n 
URL:https://bsc-dorsten.de/event/halloween-schiessen-3d-fuer-vereinsmitglieder/
LOCATION:Vereinsgelände\, Hammer Weg 111\, Dorsten\, 46282\, Deutschland
CATEGORIES:BSC-Events
ATTACH;FMTTYPE=image/png:https://bsc-dorsten.de/wp-content/uploads/2023/08/Halloween.png
END:VEVENT
BEGIN:VEVENT
DTSTART;TZID=UTC:20261108T100000
DTEND;TZID=UTC:20261108T120000
DTSTAMP:20260421T120015
CREATED:20230107T154551Z
LAST-MODIFIED:20260110T193556Z
UID:3691-1794132000-1794139200@bsc-dorsten.de
SUMMARY:Training in der Halle mit Petra
DESCRIPTION:
URL:https://bsc-dorsten.de/event/training-auf-dem-platz-mit-name-folgt-6/
CATEGORIES:Petra,Training
ATTACH;FMTTYPE=image/jpeg:https://bsc-dorsten.de/wp-content/uploads/2019/04/IMG_2257-e1555099645666.jpg
END:VEVENT
BEGIN:VEVENT
DTSTART;TZID=Europe/Berlin:20261115T100000
DTEND;TZID=Europe/Berlin:20261115T133000
DTSTAMP:20260421T120015
CREATED:20251107T074808Z
LAST-MODIFIED:20260110T193653Z
UID:6159-1794736800-1794749400@bsc-dorsten.de
SUMMARY:Vereinsmeisterschaft Halle 2025 mit ???
DESCRIPTION:Vereinsmeisterschaft in der Halle an der A.-Schweitzer-Schule. \nDie Teilnahme an der VM ist nicht verpflichtend\, um zur BZM angemeldet werden zu können. \nGerne können auch Vereinsmitglieder daran teilnehmen\, die nicht zur BZM fahren wollen (bitte entsprechend auf dem Schießzettel vermerken) \nWer an der BZM teilnehmen will\, dies bitte auf dem Schießzettel vermerken oder eine Email an Stefan (Geschaeftsfuehrer@bsc-Dorsten.de) schicken! \n  \n 
URL:https://bsc-dorsten.de/event/vereinsmeisterschaft-halle-mit-stefan/
ATTACH;FMTTYPE=image/png:https://bsc-dorsten.de/wp-content/uploads/2021/11/WSB-logo.png
END:VEVENT
BEGIN:VEVENT
DTSTART;TZID=UTC:20261122T100000
DTEND;TZID=UTC:20261122T120000
DTSTAMP:20260421T120015
CREATED:20231023T045055Z
LAST-MODIFIED:20260112T171743Z
UID:4433-1795341600-1795348800@bsc-dorsten.de
SUMMARY:Training in der Halle mit Marcus
DESCRIPTION:
URL:https://bsc-dorsten.de/event/training-in-der-halle-mit-ulli/
LOCATION:Albert-Schweitzer-Schule\, Glück-Auf-Straße 267\, Dorsten\, 46284\, Deutschland
CATEGORIES:Marcus,Training
ATTACH;FMTTYPE=image/jpeg:https://bsc-dorsten.de/wp-content/uploads/2019/04/IMG_2257-e1555099645666.jpg
END:VEVENT
BEGIN:VEVENT
DTSTART;TZID=UTC:20261128T093000
DTEND;TZID=UTC:20261128T140000
DTSTAMP:20260421T120015
CREATED:20220109T163809Z
LAST-MODIFIED:20251217T092119Z
UID:1627-1795858200-1795874400@bsc-dorsten.de
SUMMARY:Arbeitstag "Adventsschießen"/kein Schießbetrieb
DESCRIPTION:„Aufbrezeln“ der Tiere \nSonstiges lt. Plan…
URL:https://bsc-dorsten.de/event/arbeitstag-wir-warten-auf-den-nikolaus/
CATEGORIES:Arbeitstage
ATTACH;FMTTYPE=image/jpeg:https://bsc-dorsten.de/wp-content/uploads/2021/10/Nikolaus.jpg
END:VEVENT
BEGIN:VEVENT
DTSTART;TZID=UTC:20261129T100000
DTEND;TZID=UTC:20261129T163000
DTSTAMP:20260421T120015
CREATED:20211018T090901Z
LAST-MODIFIED:20251217T092232Z
UID:699-1795946400-1795969800@bsc-dorsten.de
SUMMARY:"Adventsschießen" Turnier nur für Vereinsmitglieder
DESCRIPTION:Voranmeldung nötig! \nAblauf: \n\nca. 10:00 Begrüßung\ndann Einschießen auf den dafür vorgesehenen Bahnen\nca. 10:30 Beginn der ersten Runde (3D oder Scheibe)\ndanach Mittagssnack\nanschl. zweite Runde (3D oder Scheibe)\nevtl. Stiefelschießen\ndanach gemütliches Kekse-Essen\n\n.
URL:https://bsc-dorsten.de/event/wir-warten-auf-den-nikolaus-3d-turnier-fuer-vereinsmitglieder/
LOCATION:Vereinsgelände\, Hammer Weg 111\, Dorsten\, 46282\, Deutschland
CATEGORIES:BSC-Events
ATTACH;FMTTYPE=image/jpeg:https://bsc-dorsten.de/wp-content/uploads/2021/10/Nikolaus.jpg
END:VEVENT
BEGIN:VEVENT
DTSTART;TZID=UTC:20261206T100000
DTEND;TZID=UTC:20261206T120000
DTSTAMP:20260421T120015
CREATED:20230102T130721Z
LAST-MODIFIED:20260112T171813Z
UID:3638-1796551200-1796558400@bsc-dorsten.de
SUMMARY:Training in der Halle mit Marcus
DESCRIPTION:
URL:https://bsc-dorsten.de/event/training-in-der-halle-name-folgt-5/
LOCATION:Albert-Schweitzer-Schule\, Glück-Auf-Straße 267\, Dorsten\, 46284\, Deutschland
CATEGORIES:Marcus,Training
ATTACH;FMTTYPE=image/jpeg:https://bsc-dorsten.de/wp-content/uploads/2019/04/IMG_2257-e1555099645666.jpg
END:VEVENT
END:VCALENDAR