BEGIN:VCALENDAR
VERSION:2.0
PRODID:-//BSC-Dorsten - ECPv6.15.20//NONSGML v1.0//EN
CALSCALE:GREGORIAN
METHOD:PUBLISH
X-WR-CALNAME:BSC-Dorsten
X-ORIGINAL-URL:https://bsc-dorsten.de
X-WR-CALDESC:Veranstaltungen für BSC-Dorsten
REFRESH-INTERVAL;VALUE=DURATION:PT1H
X-Robots-Tag:noindex
X-PUBLISHED-TTL:PT1H
BEGIN:VTIMEZONE
TZID:UTC
BEGIN:STANDARD
TZOFFSETFROM:+0000
TZOFFSETTO:+0000
TZNAME:UTC
DTSTART:20250101T000000
END:STANDARD
END:VTIMEZONE
BEGIN:VTIMEZONE
TZID:Europe/Berlin
BEGIN:DAYLIGHT
TZOFFSETFROM:+0100
TZOFFSETTO:+0200
TZNAME:CEST
DTSTART:20250330T010000
END:DAYLIGHT
BEGIN:STANDARD
TZOFFSETFROM:+0200
TZOFFSETTO:+0100
TZNAME:CET
DTSTART:20251026T010000
END:STANDARD
BEGIN:DAYLIGHT
TZOFFSETFROM:+0100
TZOFFSETTO:+0200
TZNAME:CEST
DTSTART:20260329T010000
END:DAYLIGHT
BEGIN:STANDARD
TZOFFSETFROM:+0200
TZOFFSETTO:+0100
TZNAME:CET
DTSTART:20261025T010000
END:STANDARD
BEGIN:DAYLIGHT
TZOFFSETFROM:+0100
TZOFFSETTO:+0200
TZNAME:CEST
DTSTART:20270328T010000
END:DAYLIGHT
BEGIN:STANDARD
TZOFFSETFROM:+0200
TZOFFSETTO:+0100
TZNAME:CET
DTSTART:20271031T010000
END:STANDARD
END:VTIMEZONE
BEGIN:VEVENT
DTSTART;TZID=UTC:20261004T100000
DTEND;TZID=UTC:20261004T120000
DTSTAMP:20260423T120403
CREATED:20220521T144829Z
LAST-MODIFIED:20260110T192854Z
UID:1963-1791108000-1791115200@bsc-dorsten.de
SUMMARY:Training in der Halle mit Petra
DESCRIPTION:
URL:https://bsc-dorsten.de/event/training-in-der-halle-mit-stefan/
LOCATION:Albert-Schweitzer-Schule\, Glück-Auf-Straße 267\, Dorsten\, 46284\, Deutschland
CATEGORIES:Petra,Training
ATTACH;FMTTYPE=image/jpeg:https://bsc-dorsten.de/wp-content/uploads/2019/04/IMG_2257-e1555099645666.jpg
END:VEVENT
BEGIN:VEVENT
DTSTART;TZID=UTC:20261011T100000
DTEND;TZID=UTC:20261011T120000
DTSTAMP:20260423T120403
CREATED:20220521T150613Z
LAST-MODIFIED:20260112T171424Z
UID:1991-1791712800-1791720000@bsc-dorsten.de
SUMMARY:Training in der Halle mit Ulli anschl. Abnahme auf dem Platz
DESCRIPTION:
URL:https://bsc-dorsten.de/event/training-auf-dem-platz-mit-jan-4/
LOCATION:Vereinsgelände\, Hammer Weg 111\, Dorsten\, 46282\, Deutschland
CATEGORIES:Training,Ulrich
ATTACH;FMTTYPE=image/jpeg:https://bsc-dorsten.de/wp-content/uploads/2019/04/IMG_2257-e1555099645666.jpg
END:VEVENT
BEGIN:VEVENT
DTSTART;TZID=UTC:20261018T100000
DTEND;TZID=UTC:20261018T120000
DTSTAMP:20260423T120403
CREATED:20220521T144959Z
LAST-MODIFIED:20260112T171208Z
UID:1966-1792317600-1792324800@bsc-dorsten.de
SUMMARY:Training in der Halle mit Manni
DESCRIPTION:nächstes Training in der Halle am ???
URL:https://bsc-dorsten.de/event/training-in-der-halle-mit-stefan-2/
CATEGORIES:Manfred,Training
ATTACH;FMTTYPE=image/jpeg:https://bsc-dorsten.de/wp-content/uploads/2019/04/IMG_2257-e1555099645666.jpg
END:VEVENT
BEGIN:VEVENT
DTSTART;TZID=UTC:20261107T160000
DTEND;TZID=UTC:20261107T235900
DTSTAMP:20260423T120403
CREATED:20230814T072440Z
LAST-MODIFIED:20251106T071612Z
UID:4215-1794067200-1794095940@bsc-dorsten.de
SUMMARY:"Halloween-Schießen (3D)" nur für Vereinsmitglieder
DESCRIPTION:ca. 16:00h Treffen auf dem Gelände zum Schmücken der Tiere (Gerne Deko-Gegenstände (z. B. Kürbisse\, Spinnennetze etc. mitbringen…) \nca. 17:00h gemeinsames Grillen (jeder bringt Grillgut und Salate mit\, Grill und Kohle wird bereitgestellt; nicht-alkoholische Getränke frei) \nab ca. 18:30 gemeinsames Schießen auf beleuchtete 3D-Ziele (ggf. zwei Runden) Wer will\, kann auch auf Scheiben schießen… \nMitzubringen sind: \n\nTaschenlampen/Stirnleuchten\nggf. Akkuleuchten zum Beleuchten der Ziele\n\n  \nAchtung: bei schlechtem Wetter kann es auch kurzfristig zu einer Absage kommen (WhatsApp beachten!) \n  \n 
URL:https://bsc-dorsten.de/event/halloween-schiessen-3d-fuer-vereinsmitglieder/
LOCATION:Vereinsgelände\, Hammer Weg 111\, Dorsten\, 46282\, Deutschland
CATEGORIES:BSC-Events
ATTACH;FMTTYPE=image/png:https://bsc-dorsten.de/wp-content/uploads/2023/08/Halloween.png
END:VEVENT
BEGIN:VEVENT
DTSTART;TZID=UTC:20261108T100000
DTEND;TZID=UTC:20261108T120000
DTSTAMP:20260423T120403
CREATED:20230107T154551Z
LAST-MODIFIED:20260110T193556Z
UID:3691-1794132000-1794139200@bsc-dorsten.de
SUMMARY:Training in der Halle mit Petra
DESCRIPTION:
URL:https://bsc-dorsten.de/event/training-auf-dem-platz-mit-name-folgt-6/
CATEGORIES:Petra,Training
ATTACH;FMTTYPE=image/jpeg:https://bsc-dorsten.de/wp-content/uploads/2019/04/IMG_2257-e1555099645666.jpg
END:VEVENT
BEGIN:VEVENT
DTSTART;TZID=Europe/Berlin:20261115T100000
DTEND;TZID=Europe/Berlin:20261115T133000
DTSTAMP:20260423T120403
CREATED:20251107T074808Z
LAST-MODIFIED:20260110T193653Z
UID:6159-1794736800-1794749400@bsc-dorsten.de
SUMMARY:Vereinsmeisterschaft Halle 2025 mit ???
DESCRIPTION:Vereinsmeisterschaft in der Halle an der A.-Schweitzer-Schule. \nDie Teilnahme an der VM ist nicht verpflichtend\, um zur BZM angemeldet werden zu können. \nGerne können auch Vereinsmitglieder daran teilnehmen\, die nicht zur BZM fahren wollen (bitte entsprechend auf dem Schießzettel vermerken) \nWer an der BZM teilnehmen will\, dies bitte auf dem Schießzettel vermerken oder eine Email an Stefan (Geschaeftsfuehrer@bsc-Dorsten.de) schicken! \n  \n 
URL:https://bsc-dorsten.de/event/vereinsmeisterschaft-halle-mit-stefan/
ATTACH;FMTTYPE=image/png:https://bsc-dorsten.de/wp-content/uploads/2021/11/WSB-logo.png
END:VEVENT
BEGIN:VEVENT
DTSTART;TZID=UTC:20261122T100000
DTEND;TZID=UTC:20261122T120000
DTSTAMP:20260423T120403
CREATED:20231023T045055Z
LAST-MODIFIED:20260112T171743Z
UID:4433-1795341600-1795348800@bsc-dorsten.de
SUMMARY:Training in der Halle mit Marcus
DESCRIPTION:
URL:https://bsc-dorsten.de/event/training-in-der-halle-mit-ulli/
LOCATION:Albert-Schweitzer-Schule\, Glück-Auf-Straße 267\, Dorsten\, 46284\, Deutschland
CATEGORIES:Marcus,Training
ATTACH;FMTTYPE=image/jpeg:https://bsc-dorsten.de/wp-content/uploads/2019/04/IMG_2257-e1555099645666.jpg
END:VEVENT
BEGIN:VEVENT
DTSTART;TZID=UTC:20261128T093000
DTEND;TZID=UTC:20261128T140000
DTSTAMP:20260423T120403
CREATED:20220109T163809Z
LAST-MODIFIED:20251217T092119Z
UID:1627-1795858200-1795874400@bsc-dorsten.de
SUMMARY:Arbeitstag "Adventsschießen"/kein Schießbetrieb
DESCRIPTION:„Aufbrezeln“ der Tiere \nSonstiges lt. Plan…
URL:https://bsc-dorsten.de/event/arbeitstag-wir-warten-auf-den-nikolaus/
CATEGORIES:Arbeitstage
ATTACH;FMTTYPE=image/jpeg:https://bsc-dorsten.de/wp-content/uploads/2021/10/Nikolaus.jpg
END:VEVENT
BEGIN:VEVENT
DTSTART;TZID=UTC:20261129T100000
DTEND;TZID=UTC:20261129T163000
DTSTAMP:20260423T120403
CREATED:20211018T090901Z
LAST-MODIFIED:20251217T092232Z
UID:699-1795946400-1795969800@bsc-dorsten.de
SUMMARY:"Adventsschießen" Turnier nur für Vereinsmitglieder
DESCRIPTION:Voranmeldung nötig! \nAblauf: \n\nca. 10:00 Begrüßung\ndann Einschießen auf den dafür vorgesehenen Bahnen\nca. 10:30 Beginn der ersten Runde (3D oder Scheibe)\ndanach Mittagssnack\nanschl. zweite Runde (3D oder Scheibe)\nevtl. Stiefelschießen\ndanach gemütliches Kekse-Essen\n\n.
URL:https://bsc-dorsten.de/event/wir-warten-auf-den-nikolaus-3d-turnier-fuer-vereinsmitglieder/
LOCATION:Vereinsgelände\, Hammer Weg 111\, Dorsten\, 46282\, Deutschland
CATEGORIES:BSC-Events
ATTACH;FMTTYPE=image/jpeg:https://bsc-dorsten.de/wp-content/uploads/2021/10/Nikolaus.jpg
END:VEVENT
BEGIN:VEVENT
DTSTART;TZID=UTC:20261206T100000
DTEND;TZID=UTC:20261206T120000
DTSTAMP:20260423T120403
CREATED:20230102T130721Z
LAST-MODIFIED:20260112T171813Z
UID:3638-1796551200-1796558400@bsc-dorsten.de
SUMMARY:Training in der Halle mit Marcus
DESCRIPTION:
URL:https://bsc-dorsten.de/event/training-in-der-halle-name-folgt-5/
LOCATION:Albert-Schweitzer-Schule\, Glück-Auf-Straße 267\, Dorsten\, 46284\, Deutschland
CATEGORIES:Marcus,Training
ATTACH;FMTTYPE=image/jpeg:https://bsc-dorsten.de/wp-content/uploads/2019/04/IMG_2257-e1555099645666.jpg
END:VEVENT
BEGIN:VEVENT
DTSTART;TZID=Europe/Berlin:20261213T100000
DTEND;TZID=Europe/Berlin:20261213T120000
DTSTAMP:20260423T120403
CREATED:20250817T220735Z
LAST-MODIFIED:20260110T194053Z
UID:5783-1797156000-1797163200@bsc-dorsten.de
SUMMARY:Training in der Halle mit Petra
DESCRIPTION:
URL:https://bsc-dorsten.de/event/training-in-der-halle-mit-stefan-3/
CATEGORIES:Petra,Training
ATTACH;FMTTYPE=image/jpeg:https://bsc-dorsten.de/wp-content/uploads/2019/04/IMG_2257-e1555099645666.jpg
END:VEVENT
BEGIN:VEVENT
DTSTART;TZID=Europe/Berlin:20261220T100000
DTEND;TZID=Europe/Berlin:20261220T120000
DTSTAMP:20260423T120403
CREATED:20250817T220858Z
LAST-MODIFIED:20260112T172017Z
UID:5785-1797760800-1797768000@bsc-dorsten.de
SUMMARY:Training in der Halle mit Manni
DESCRIPTION:
URL:https://bsc-dorsten.de/event/training-in-der-halle-mit-stefan-4/
CATEGORIES:Manfred,Training
ATTACH;FMTTYPE=image/jpeg:https://bsc-dorsten.de/wp-content/uploads/2019/04/IMG_2257-e1555099645666.jpg
END:VEVENT
BEGIN:VEVENT
DTSTART;TZID=UTC:20270410T094500
DTEND;TZID=UTC:20270411T170000
DTSTAMP:20260423T120403
CREATED:20211018T095440Z
LAST-MODIFIED:20260413T073105Z
UID:716-1807350300-1807462800@bsc-dorsten.de
SUMMARY:Grundkurs 1/2027
DESCRIPTION:Tag1:\nTreffen 09:45h auf dem Parkplatz; Beginn 10:00h/Ende ca. 17:00h \nTag2: \nTreffen 10:00h vor der Hütte; Ende ca. 17:00h \n\nGrundkurs Bogenschießen\nDer Grundkurs ist für Anfänger Voraussetzung für eine Mitgliedschaft im BSC Dorsten\n\n\nDie Teilnahme am Grundkurs verpflichtet zu nichts!!!\n\nDauer: Ein Grundkurs läuft immer über zwei Tage (2 x 6 Stunden). \nEquipment: Die Bogensportausrüstung wird komplett vom BSC gestellt. \nDresscode: festes Schuhwerk\, lange Beinkleidung und ein möglichst eng anliegendes Oberteil. \nVerpflegung: Speisen sind selbst mitzubringen\, Getränke können bei uns erworben werden. \nKosten: Schüler\, Jugendliche und Auszubildende zahlen 40€\, Erwachsene 80€\, \nFamilien können zum Pauschalpreis von ebenfalls 80€ teilnehmen. \ngrober Ablauf:\nTag 1 (Pausen nach Bedarf):\n\nEmpfang der Teilnehmer*innen am Haupteingang/Parkplatz Hammer Weg 111\nBegrüßung/Vorstellung/Allgemeines\nErmittlung Rechtshand- (RH)/Linkshand-Schütze (LH)\nAusstattung mit entsprechender Ausrüstung\n\nErläuterung der einzelnen Ausrüstungsgegenstände\n\n\nSicherheitshinweise/Verhalten auf dem Gelände\nZuordnung Trainer/Gruppenteilnehmer\nTraining in Gruppen\n\nGrundlagen der Technik/erste Schüsse\n\n\nGemeinsam: Abbau/Aufbau des Bogens\nTraining in Gruppen\n\nindividuelle Kontrolle/Korrekturen von Fehlern\n\n\nGemeinsam: Review/Feedback des Tages\n\nTag 2 (Pausen nach Bedarf)\n\nTreffen auf dem Platz\nBogentheorie/Sicherheitsregeln beim Bewegen im Parcours\nTraining in Gruppen\n\nKennenlernen des Parcours/Verhalten auf der Schießbahn\nSchießen mit verschiedenen Distanzen\nBedeutung der unterschiedlichen Markierungen auf der Schießbahn\n\n\nMittags: Präsentation von Leihausrüstung durch einen Bogensport-Shop\nTraining in Gruppen\n\nSchießen auf Scheiben/3D-Ziele\n\n\nGemeinsam: Fazit/Review\nnächste Schritte\n\nWie kann man Mitglied werden?\nTrainingsmöglichkeiten bis zur Platzreife etc.\n\n\nVerabschiedung
URL:https://bsc-dorsten.de/event/grundkurs-1-2022/
LOCATION:Vereinsgelände\, Hammer Weg 111\, Dorsten\, 46282\, Deutschland
CATEGORIES:Axel,Grundkurs,Jan,Stefan,Ulrich
ATTACH;FMTTYPE=image/png:https://bsc-dorsten.de/wp-content/uploads/2021/10/Grundkurs-1.png
END:VEVENT
END:VCALENDAR