BEGIN:VCALENDAR
VERSION:2.0
PRODID:-//BSC-Dorsten - ECPv6.15.20//NONSGML v1.0//EN
CALSCALE:GREGORIAN
METHOD:PUBLISH
X-ORIGINAL-URL:https://bsc-dorsten.de
X-WR-CALDESC:Veranstaltungen für BSC-Dorsten
REFRESH-INTERVAL;VALUE=DURATION:PT1H
X-Robots-Tag:noindex
X-PUBLISHED-TTL:PT1H
BEGIN:VTIMEZONE
TZID:UTC
BEGIN:STANDARD
TZOFFSETFROM:+0000
TZOFFSETTO:+0000
TZNAME:UTC
DTSTART:20250101T000000
END:STANDARD
END:VTIMEZONE
BEGIN:VEVENT
DTSTART;TZID=UTC:20260516T100000
DTEND;TZID=UTC:20260516T120000
DTSTAMP:20260421T120606
CREATED:20211018T090351Z
LAST-MODIFIED:20260418T130059Z
UID:693-1778925600-1778932800@bsc-dorsten.de
SUMMARY:Training auf dem Platz mit Ulli (anschl. JHV)
DESCRIPTION:
URL:https://bsc-dorsten.de/event/training-auf-dem-platz-mit-axel/
LOCATION:Vereinsgelände\, Hammer Weg 111\, Dorsten\, 46282\, Deutschland
CATEGORIES:Training
END:VEVENT
END:VCALENDAR